BEGIN:VCALENDAR
VERSION:2.0
PRODID:-//Talks.cam//talks.cam.ac.uk//
X-WR-CALNAME:Talks.cam
BEGIN:VEVENT
SUMMARY:Taming Biology as an Engineering Discipline - Tom Knight\, MIT and
  Ginkgo BioWorks
DTSTART:20110331T120000Z
DTEND:20110331T130000Z
UID:TALK30569@talks.cam.ac.uk
CONTACT:Dr Jim Haseloff
DESCRIPTION:Tom Knight is a senior research scientist in the MIT Computer 
 Science and Artificial Intelligence Laboratory. A computer scientist by tr
 aining with a strong interest in cellular biology\, he is acknowledged as 
 one of the fathers of synthetic biology. In his MIT lab he created the con
 cept of the BioBrick and began creating a library of BioBricks that could 
 be used to build biological computation structures and standardised biolog
 ical parts. He will talk about the challenges and prospects of moving biol
 ogy to an engineering discipline.
LOCATION:Lecture Theatre\, Dept of Plant Sciences\, Downing Street
END:VEVENT
END:VCALENDAR
