BEGIN:VCALENDAR
VERSION:2.0
PRODID:-//Talks.cam//talks.cam.ac.uk//
X-WR-CALNAME:Talks.cam
BEGIN:VEVENT
SUMMARY:Basic Statistics Reading Group - Nicole Janz\, POLIS
DTSTART:20110412T163000Z
DTEND:20110412T173000Z
UID:TALK30572@talks.cam.ac.uk
CONTACT:Nicole Janz
DESCRIPTION:\nThe Basic Statistics Reading Group seeks to be a forum for g
 rad and undergrad students at Cambridge who are new to statistics. The aim
  is to:\n\n    * weekly meet and discuss chapters of Wooldridge: Introduct
 ory Econometrics (2nd ed.)\n    * invite lecturers for specific topics\n  
   * discuss each others quantitative research designs.\n\nThe group was fo
 unded by a PhD student at Politics. However\, the approach is interdiscipl
 inary and students from Economy\, Sociology and Psychology\, as well as Co
 mputer Science and Maths or other Departments and Institutes are welcome t
 o join.\n\nPlease get in touch with Nicole (nj248) if you think of droppin
 g in or if you have any questions.
LOCATION:Graduate Union\, 17 Mill Lane\, Meeting Room
END:VEVENT
END:VCALENDAR
