BEGIN:VCALENDAR
VERSION:2.0
PRODID:-//Talks.cam//talks.cam.ac.uk//
X-WR-CALNAME:Talks.cam
BEGIN:VEVENT
SUMMARY:Judging Nudging: Can Nudging Improve Population Health? - Prof. Th
 eresa Marteau\, Director of the Policy Research Unit on Behaviour and Heal
 th\, University of Cambridge
DTSTART:20110520T120000Z
DTEND:20110520T130000Z
UID:TALK30595@talks.cam.ac.uk
CONTACT:Leila Luheshi
DESCRIPTION:Abstract not available
LOCATION: Cambridge University Engineering Department\, Lecture Room 6
END:VEVENT
END:VCALENDAR
