BEGIN:VCALENDAR
VERSION:2.0
PRODID:-//Talks.cam//talks.cam.ac.uk//
X-WR-CALNAME:Talks.cam
BEGIN:VEVENT
SUMMARY:Nets and Nests: Accelerated Bayesian Inference for Astrophysics - 
 Mike Hobson (Cavendish Astrophysics)
DTSTART:20110517T153000Z
DTEND:20110517T163000Z
UID:TALK30844@talks.cam.ac.uk
CONTACT:20580
DESCRIPTION:Abstract not available
LOCATION:Ryle Seminar Room\, Cavendish Laboratory
END:VEVENT
END:VCALENDAR
