BEGIN:VCALENDAR
VERSION:2.0
PRODID:-//Talks.cam//talks.cam.ac.uk//
X-WR-CALNAME:Talks.cam
BEGIN:VEVENT
SUMMARY:Can you project finance a new nuclear power station? - Simon Taylo
 r (Judge Business School)
DTSTART:20110509T113000Z
DTEND:20110509T130000Z
UID:TALK31088@talks.cam.ac.uk
CONTACT:Yi-Jun Lin
DESCRIPTION:Abstract not available
LOCATION:Judge Business School Room W2.01
END:VEVENT
END:VCALENDAR
