BEGIN:VCALENDAR
VERSION:2.0
PRODID:-//Talks.cam//talks.cam.ac.uk//
X-WR-CALNAME:Talks.cam
BEGIN:VEVENT
SUMMARY:Rate of convergence for random homogenization of fully nonlinear e
 quations - Luis Caffarelli\, University of Texas at Austin
DTSTART:20110429T140000Z
DTEND:20110429T150000Z
UID:TALK31174@talks.cam.ac.uk
CONTACT:6743
DESCRIPTION:I will describe how to obtain rates of convergence of solution
 s to fully\nnon linear equations with random \, ergodic dependence in x\, 
 in the case that a decay rate in the correlation of the x dependence at la
 rge distances is available.
LOCATION:MR4\, CMS
END:VEVENT
END:VCALENDAR
