BEGIN:VCALENDAR
VERSION:2.0
PRODID:-//Talks.cam//talks.cam.ac.uk//
X-WR-CALNAME:Talks.cam
BEGIN:VEVENT
SUMMARY:Discussion with Harald Christ\, Entrepreneur & Politician - Harald
  Christ
DTSTART:20110523T163000Z
DTEND:20110523T180000Z
UID:TALK31196@talks.cam.ac.uk
CONTACT:Thomas Clausen
DESCRIPTION:	\nThe CU German Society in cooperation with the Cambridge Uni
 on Society\ninvites you to an informal discussion with the renowned German
  entrepreneur and SPD politician Harald Christ on May 23\, 5:30pm in the K
 ennedy Room of the Cambridge Union Society (9a Bridge Street).\n\nA classi
 c self-made man\, Mr Christ rose from his first job as a clerical apprenti
 ce to top management positions\, including assignments as head of private 
 banking at WestLB\, CEO of Weber-Bank\, and managing director of private a
 nd business clients at Deutsche Bank. He achieved great success as CEO of 
 HCI Capital and is currently chairman and owner of Conomus Treuhand AG. In
  2009\, Frank-Walter Steinmeier appointed him shadow minister of economic 
 affairs. Since then\, he has been regarded as a potential Minister of Econ
 omic Affairs in a future SPD government.\n\nThe event will be a fascinatin
 g opportunity for everyone interested - from undergraduate to senior schol
 ar - to meet and discuss with a key player in German politics and economic
 s. The event will be in German. All are welcome. 
LOCATION:Kennedy Room\, Cambridge Union Society 9a Bridge Street Cambridge
  CB2 1UB
END:VEVENT
END:VCALENDAR
