BEGIN:VCALENDAR
VERSION:2.0
PRODID:-//Talks.cam//talks.cam.ac.uk//
X-WR-CALNAME:Talks.cam
BEGIN:VEVENT
SUMMARY:Dissecting roles for 14-3-3s in cellular responses to insulin and 
 growth factors - Professor Carol MacKintosh\, University of Dundee
DTSTART:20110519T154500Z
DTEND:20110519T164500Z
UID:TALK31353@talks.cam.ac.uk
CONTACT:Victoria Bonnici
DESCRIPTION:Abstract not available
LOCATION:Seminar Rooms\, Metabolic Research Labs\, Level 4\, Institute of 
 Metabolic Science
END:VEVENT
END:VCALENDAR
