BEGIN:VCALENDAR
VERSION:2.0
PRODID:-//Talks.cam//talks.cam.ac.uk//
X-WR-CALNAME:Talks.cam
BEGIN:VEVENT
SUMMARY:Gut\, germs and genes: the role of the microflora in intestinal on
 cogenesis - Eyal Raz\, University of California San Diego\, hosted by Arth
 ur Kaser
DTSTART:20110525T103000Z
DTEND:20110525T113000Z
UID:TALK31496@talks.cam.ac.uk
CONTACT:Liz Williams
DESCRIPTION:Abstract not available
LOCATION:Sackler Lecture Theatre (Level 7)\, Cambridge Institute for Medic
 al Research
END:VEVENT
END:VCALENDAR
