BEGIN:VCALENDAR
VERSION:2.0
PRODID:-//Talks.cam//talks.cam.ac.uk//
X-WR-CALNAME:Talks.cam
BEGIN:VEVENT
SUMMARY:The Art of Feodosii Humeniuk: A Talk and Exhibition - Feodosii Hum
 eniuk\, Honoured Artist of Ukraine
DTSTART:20110607T160000Z
DTEND:20110607T180000Z
UID:TALK31606@talks.cam.ac.uk
CONTACT:Dr R E Finnin
DESCRIPTION:Feodosii Humeniuk (born 1941) is one of Ukraine's great artist
 s\, a visionary master who brings legends to life.  Cambridge Ukrainian St
 udies invites you to a talk and exhibition in celebration of his career.\n
 \nMr Humeniuk is an Honoured Artist of Ukraine and winner of the prestigio
 us Shevchenko Prize.  A pioneer of the non-conformist art movement in the 
 Soviet period\, he has kept the artistic traditions of the Boichuk school 
 alive while infusing them with a new and distinctive energy.
LOCATION:Umney Theatre\, Robinson College\, Cambridge
END:VEVENT
END:VCALENDAR
