BEGIN:VCALENDAR
VERSION:2.0
PRODID:-//Talks.cam//talks.cam.ac.uk//
X-WR-CALNAME:Talks.cam
BEGIN:VEVENT
SUMMARY:Public-Private Partnership: Best Practices and Lessons from India 
 - Mr Madhavan Nambiar\, former Secretary to the Government of India
DTSTART:20110607T120000Z
DTEND:20110607T130000Z
UID:TALK31708@talks.cam.ac.uk
CONTACT:15899
DESCRIPTION:Emerging markets offer attractive opportunities for domestic a
 nd foreign investors—especially in the infrastructure sector. For instan
 ce\, India needs to invest US$1 trillion in infrastructure projects merely
  to sustain its current growth rate of 8% (which could jump to 10% as the 
 infrastructure improves). Public-private partnerships (PPP) are vital for 
 leveraging such opportunities. \n\nMr Madhavan Nambiar\, a highly respecte
 d Indian civil servant and an expert in PPP\, will address:\n•	How big a
 re the investment opportunities in infrastructure sector in emerging marke
 ts like India?\n•	What are the effective public-private partnership (PPP
 ) mechanisms and strategies for large infrastructure programmes?\n•	Dos 
 and don’ts: How should the private sector engage with governments in eme
 rging markets?\n
LOCATION:Castle Teaching Room\, 4th floor\, Judge Business School\, Trumpi
 ngton Street CB2 1AG
END:VEVENT
END:VCALENDAR
