BEGIN:VCALENDAR
VERSION:2.0
PRODID:-//Talks.cam//talks.cam.ac.uk//
X-WR-CALNAME:Talks.cam
BEGIN:VEVENT
SUMMARY: Host-fungal interactions: pathogenicity versus immunity - Speaker
  to be confirmed
DTSTART:20111021T080000Z
DTEND:20111021T160000Z
UID:TALK31727@talks.cam.ac.uk
CONTACT:Dr Shara Cohen
DESCRIPTION:Fungal pathogens cause a range of serious mucosal infections a
 nd life-threatening fungaemia in a variety of immunocompromised hosts. Thi
 s EuroSciCon meeting on host-fungal interactions aims to be a premier foru
 m in the UK for presentation of cutting-edge advances in relation to funga
 l pathogenicity and innate and adaptive immune mechanisms against pathogen
 ic fungi. The meeting will help chart the course of future research and fa
 cilitate the urgent necessity to understand\, treat\, and prevent disease.
  Meeting Chairs:  Dr Julian R. Naglik \, King's College London \, United K
 ingdom and Professor Neil Gow\, University of Aberdeen \, UK\n\nwww.regonl
 ine.co.uk/fungal2011
LOCATION:The Penridge Suite\, 470 Bowes Road\, London N11 1NL
END:VEVENT
END:VCALENDAR
