BEGIN:VCALENDAR
VERSION:2.0
PRODID:-//Talks.cam//talks.cam.ac.uk//
X-WR-CALNAME:Talks.cam
BEGIN:VEVENT
SUMMARY:Arithmetic and physics of Higgs moduli spaces - Hausel\, T (Oxford
 )
DTSTART:20110627T090000Z
DTEND:20110627T100000Z
UID:TALK31896@talks.cam.ac.uk
CONTACT:Mustapha Amrani
DESCRIPTION:In this talk we discuss the connection between conjectures wit
 h Villegas on mixed Hodge polynomials of character varieties of Riemann su
 rfaces achieved by arithmetic means and conjectures on the cohomology of H
 iggs moduli spaces derived by physicists Chuang-Diaconescu-Pan.\n
LOCATION:Seminar Room 1\, Newton Institute
END:VEVENT
END:VCALENDAR
