BEGIN:VCALENDAR
VERSION:2.0
PRODID:-//Talks.cam//talks.cam.ac.uk//
X-WR-CALNAME:Talks.cam
BEGIN:VEVENT
SUMMARY:The origin of AIDS and malaria in wild apes - Professor Beatrice H
 ahn\, University of Alabama\, Birmingham
DTSTART:20110623T150000Z
DTEND:20110623T160000Z
UID:TALK31902@talks.cam.ac.uk
CONTACT:Dr Leslie A. Knapp
DESCRIPTION:Abstract not available
LOCATION:Department of Biological Anthropology Lecture Theatre (Room 41) P
 embroke Street
END:VEVENT
END:VCALENDAR
