BEGIN:VCALENDAR
VERSION:2.0
PRODID:-//Talks.cam//talks.cam.ac.uk//
X-WR-CALNAME:Talks.cam
BEGIN:VEVENT
SUMMARY:Molecular Mechanisms in cytotoxicity by SLAM family receptors - Dr
  Marion Brown\, Dunn School of Pathology\, Oxford\, hosted by Gillian Grif
 fiths
DTSTART:20110902T120000Z
DTEND:20110902T130000Z
UID:TALK32312@talks.cam.ac.uk
CONTACT:Liz Williams
DESCRIPTION:Abstract not available
LOCATION:Sackler Lecture Theatre (Level 7)\, Cambridge Institute for Medic
 al Research
END:VEVENT
END:VCALENDAR
