BEGIN:VCALENDAR
VERSION:2.0
PRODID:-//Talks.cam//talks.cam.ac.uk//
X-WR-CALNAME:Talks.cam
BEGIN:VEVENT
SUMMARY:"Pain scoring in cats". - Miss Joana Aguiar
DTSTART:20111014T074500Z
DTEND:20111014T090000Z
UID:TALK32723@talks.cam.ac.uk
CONTACT:Denise Leeks
DESCRIPTION:Abstract not available
LOCATION:LT 2
END:VEVENT
END:VCALENDAR
