BEGIN:VCALENDAR
VERSION:2.0
PRODID:-//Talks.cam//talks.cam.ac.uk//
X-WR-CALNAME:Talks.cam
BEGIN:VEVENT
SUMMARY:Mapping the phase behavior of protein interactions in multicompone
 nt solutions - William Jacobs (CUC3)
DTSTART:20111007T110000Z
DTEND:20111007T113000Z
UID:TALK32759@talks.cam.ac.uk
CONTACT:Dr Mark Miller
DESCRIPTION:Abstract not available
LOCATION:Pfizer Lecture Theatre\,  Department of Chemistry
END:VEVENT
END:VCALENDAR
