BEGIN:VCALENDAR
VERSION:2.0
PRODID:-//Talks.cam//talks.cam.ac.uk//
X-WR-CALNAME:Talks.cam
BEGIN:VEVENT
SUMMARY:The regulation of gene expression in the context of chromatin - Da
 nny Reinberg\, Howard Hughes Medical Institute\, New York
DTSTART:20121115T130000Z
DTEND:20121115T140000Z
UID:TALK32830@talks.cam.ac.uk
CONTACT:Kate Davenport
DESCRIPTION:Abstract not available
LOCATION:Cancer Research UK Cambridge Research Institute\, Lecture Theatre
END:VEVENT
END:VCALENDAR
