BEGIN:VCALENDAR
VERSION:2.0
PRODID:-//Talks.cam//talks.cam.ac.uk//
X-WR-CALNAME:Talks.cam
BEGIN:VEVENT
SUMMARY:Singularities in nilpotent cones of exceptional type - Juteau\, D 
 (CNRS - Universit de Caen Basse-Normandie)
DTSTART:20110916T103000Z
DTEND:20110916T113000Z
UID:TALK32863@talks.cam.ac.uk
CONTACT:Mustapha Amrani
DESCRIPTION:2011/09/16
LOCATION:Seminar Room 1\, Newton Institute
END:VEVENT
END:VCALENDAR
