BEGIN:VCALENDAR
VERSION:2.0
PRODID:-//Talks.cam//talks.cam.ac.uk//
X-WR-CALNAME:Talks.cam
BEGIN:VEVENT
SUMMARY:C++ (part 1 of 4) - Tim Love (University of Cambridge)
DTSTART:20111021T140000Z
DTEND:20111021T150000Z
UID:TALK32929@talks.cam.ac.uk
CONTACT:Tim Love
DESCRIPTION:An introduction
LOCATION:LR5\, Engineering\, Department of
END:VEVENT
END:VCALENDAR
