BEGIN:VCALENDAR
VERSION:2.0
PRODID:-//Talks.cam//talks.cam.ac.uk//
X-WR-CALNAME:Talks.cam
BEGIN:VEVENT
SUMMARY:Document Preparation using LaTeX - Tim Love (University of Cambrid
 ge)
DTSTART:20111104T150000Z
DTEND:20111104T160000Z
UID:TALK32933@talks.cam.ac.uk
CONTACT:Tim Love
DESCRIPTION:An introduction to LaTeX's concepts and related learning mater
 ial. A practical session for local users will follow the seminar if space 
 permits.
LOCATION:LR5\, Engineering\, Department of
END:VEVENT
END:VCALENDAR
