BEGIN:VCALENDAR
VERSION:2.0
PRODID:-//Talks.cam//talks.cam.ac.uk//
X-WR-CALNAME:Talks.cam
BEGIN:VEVENT
SUMMARY:Professor Stefan Collini: The Very Idea of the University - Profes
 sor Stefan Collini (English)
DTSTART:20111011T160000Z
DTEND:20111011T180000Z
UID:TALK32976@talks.cam.ac.uk
CONTACT:Ruth Rushworth
DESCRIPTION:CRASSH 10th Anniversary Lecture Series\n\nProfessor Stefan Col
 lini (English\, University of Cambridge) will give the first in a series o
 f six lectures on The Idea of the University.\n
LOCATION:Lady Mitchell Hall\, Sidgwick Site\, Sidgwick Avenue\, Cambridge\
 , CB3 9DA
END:VEVENT
END:VCALENDAR
