BEGIN:VCALENDAR
VERSION:2.0
PRODID:-//Talks.cam//talks.cam.ac.uk//
X-WR-CALNAME:Talks.cam
BEGIN:VEVENT
SUMMARY:Professor Sir Leszek Borysiewicz: The Idea of the University - Pro
 fessor Sir Leszek Borysiewicz (Vice-Chancellor)
DTSTART:20111025T160000Z
DTEND:20111025T180000Z
UID:TALK32978@talks.cam.ac.uk
CONTACT:Ruth Rushworth
DESCRIPTION:CRASSH 10th Anniversary Lecture Series\n\nProfessor Sir Leszek
  Borysiewicz (Vice-Chancellor\, University of Cambridge) will give the thi
 rd in a series of six lectures on The Idea of the University.\n
LOCATION:Lady Mitchell Hall\, Sidgwick Site\, Sidgwick Avenue\, Cambridge\
 , CB3 9DA
END:VEVENT
END:VCALENDAR
