BEGIN:VCALENDAR
VERSION:2.0
PRODID:-//Talks.cam//talks.cam.ac.uk//
X-WR-CALNAME:Talks.cam
BEGIN:VEVENT
SUMMARY:Regenerative braking of articulated trailers - Will Midgley\, CUED
DTSTART:20111014T153000Z
DTEND:20111014T160000Z
UID:TALK33128@talks.cam.ac.uk
CONTACT:Anna Walczyk
DESCRIPTION:Abstract not available
LOCATION:Cambridge University Engineering Department\, Oatley Room 1
END:VEVENT
END:VCALENDAR
