BEGIN:VCALENDAR
VERSION:2.0
PRODID:-//Talks.cam//talks.cam.ac.uk//
X-WR-CALNAME:Talks.cam
BEGIN:VEVENT
SUMMARY:The psychology of gambling and gambling addiction - Luke Clark (De
 pt of Experimental Psychology)
DTSTART:20111031T160000Z
DTEND:20111031T173000Z
UID:TALK33254@talks.cam.ac.uk
CONTACT:Mandy Carter
DESCRIPTION:Abstract not available
LOCATION:Seminar Room\, MRC Cognition and Brain Sciences\, 15 Chaucer Road
 \, Cambridge
END:VEVENT
END:VCALENDAR
