BEGIN:VCALENDAR
VERSION:2.0
PRODID:-//Talks.cam//talks.cam.ac.uk//
X-WR-CALNAME:Talks.cam
BEGIN:VEVENT
SUMMARY:Structural variations of the human genome and their role in congen
 ital disease - Professor Stefan Mundlos\, Institute for Medical Genetics\,
  University of Berlin
DTSTART:20111024T160000Z
DTEND:20111024T170000Z
UID:TALK33424@talks.cam.ac.uk
CONTACT:Sylvie Robinson
DESCRIPTION:Abstract not available
LOCATION:CRUK Cambridge Research Institute - LiKa Shing Centre - Robinson 
 Way - Cambridge - CB2 0RE
END:VEVENT
END:VCALENDAR
