BEGIN:VCALENDAR
VERSION:2.0
PRODID:-//Talks.cam//talks.cam.ac.uk//
X-WR-CALNAME:Talks.cam
BEGIN:VEVENT
SUMMARY:Title to be confirmed - Dr Richard Blumberg\, Harvard School of Me
 dicine\, hosted by Students and Postdocs\, Smith lab
DTSTART:20111209T130000Z
DTEND:20111209T140000Z
UID:TALK33426@talks.cam.ac.uk
CONTACT:Liz Williams
DESCRIPTION:Abstract not available
LOCATION:Sackler Lecture Theatre (Level 7)\, Cambridge Institute for Medic
 al Research
END:VEVENT
END:VCALENDAR
