BEGIN:VCALENDAR
VERSION:2.0
PRODID:-//Talks.cam//talks.cam.ac.uk//
X-WR-CALNAME:Talks.cam
BEGIN:VEVENT
SUMMARY:Surveying Salonika: the work of British military survey sections 1
 915-1919 - Alan Wakefield\, Imperial War Museum
DTSTART:20111122T173000Z
DTEND:20111122T190000Z
UID:TALK33612@talks.cam.ac.uk
CONTACT:Sarah Bendall
DESCRIPTION:Abstract not available
LOCATION:Emmanuel College (Gardner Room)
END:VEVENT
END:VCALENDAR
