BEGIN:VCALENDAR
VERSION:2.0
PRODID:-//Talks.cam//talks.cam.ac.uk//
X-WR-CALNAME:Talks.cam
BEGIN:VEVENT
SUMMARY:Early Career Funding in Academia - Dr. Julie Ahringer (Wellcome Tr
 ust/Cancer Research UK Gurdon Institute) and Dr. Janet Deane (CIMR/Royal S
 ociety Fellow)
DTSTART:20111020T150000Z
DTEND:20111020T160000Z
UID:TALK33911@talks.cam.ac.uk
CONTACT:Dr. Lena Wartosch
DESCRIPTION:Abstract not available
LOCATION:CIMR (Cambridge Institute for Medical Research)\, Sackler Lecture
  Theater on level 7
END:VEVENT
END:VCALENDAR
