BEGIN:VCALENDAR
VERSION:2.0
PRODID:-//Talks.cam//talks.cam.ac.uk//
X-WR-CALNAME:Talks.cam
BEGIN:VEVENT
SUMMARY:Papal-Imperial Relations and the Crusade under Honorius III (1216-
 1227) - Thomas Smith (Royal Holloway\, University of London)
DTSTART:20111020T160000Z
DTEND:20111020T170000Z
UID:TALK33924@talks.cam.ac.uk
CONTACT:25409
DESCRIPTION:Abstract not available
LOCATION:Teaching Room\, Oldham Hall\, Lucy Cavendish College
END:VEVENT
END:VCALENDAR
