BEGIN:VCALENDAR
VERSION:2.0
PRODID:-//Talks.cam//talks.cam.ac.uk//
X-WR-CALNAME:Talks.cam
BEGIN:VEVENT
SUMMARY:The hospitality of images - Aaron Rosen (Visiting Fellow\, CJCR)
DTSTART:20120528T150000Z
DTEND:20120528T170000Z
UID:TALK33940@talks.cam.ac.uk
CONTACT:Emma Harris
DESCRIPTION:Abstract not available
LOCATION:Faculty of Divinity (West Road)\, Room 2
END:VEVENT
END:VCALENDAR
