BEGIN:VCALENDAR
VERSION:2.0
PRODID:-//Talks.cam//talks.cam.ac.uk//
X-WR-CALNAME:Talks.cam
BEGIN:VEVENT
SUMMARY:Clare Hall Tanner Lectures 2011: The Psychology and Economics of A
 uthority - Professor William Brown\, Professor Uta Frith\, Professor Trevo
 r Robbins and Dr David Runciman
DTSTART:20111109T170000Z
DTEND:20111109T193000Z
UID:TALK34016@talks.cam.ac.uk
CONTACT:4632
DESCRIPTION:Tuesday 8 November 2011\n5.00pm - 7.30pm Tanner Speaker - Prof
 essor Ernst Fehr\nThe Auditiorium\, Robinson College\, Grange Road\nThis l
 ecture will include a short drinks reception.\n\nWednesday 9 November 2011
 \n5.00pm - 7.45pm Tanner Respondents - Professor William Brown\, Professor
  Uta Frith\, Professor Trevor Robbins and Dr David Runciman\nThe Umny Thea
 tre\, Robinson College\, Grange Road\nThis lecture will include a short dr
 inks reception. 
LOCATION:Robinson College\, Umney Theatre
END:VEVENT
END:VCALENDAR
