BEGIN:VCALENDAR
VERSION:2.0
PRODID:-//Talks.cam//talks.cam.ac.uk//
X-WR-CALNAME:Talks.cam
BEGIN:VEVENT
SUMMARY:Rethinking antisemitism in the Origins of Totalitarianism and Dial
 ectic of Enlightenment - Philip Spencer (Kingston)
DTSTART:20111114T160000Z
DTEND:20111114T180000Z
UID:TALK34174@talks.cam.ac.uk
CONTACT:Emma Harris
DESCRIPTION:Abstract not available
LOCATION:Faculty of Divinity (West Road)\, Room 3
END:VEVENT
END:VCALENDAR
