BEGIN:VCALENDAR
VERSION:2.0
PRODID:-//Talks.cam//talks.cam.ac.uk//
X-WR-CALNAME:Talks.cam
BEGIN:VEVENT
SUMMARY:First year reports - Andra Adams and Ntombikayise Banda
DTSTART:20111027T131500Z
DTEND:20111027T141500Z
UID:TALK34176@talks.cam.ac.uk
CONTACT:Peter Robinson
DESCRIPTION:Abstract not available
LOCATION:Rainbow Room (SS03)\, Computer Laboratory
END:VEVENT
END:VCALENDAR
