BEGIN:VCALENDAR
VERSION:2.0
PRODID:-//Talks.cam//talks.cam.ac.uk//
X-WR-CALNAME:Talks.cam
BEGIN:VEVENT
SUMMARY:Histopathology: Advances in research and techniques  - Meeting Ch
 air: Dr Will Howat\, Cambridge Research Institute\, Cancer Research UK
DTSTART:20120330T080000Z
DTEND:20120330T160000Z
UID:TALK34384@talks.cam.ac.uk
CONTACT:Dr Shara Cohen
DESCRIPTION:http://www.regonline.co.uk/hist2012\n\n\nThis is the 9th Annua
 l event (originally called Improving Immunohistochemistry) and is the flag
 ship meeting for Euroscicon.  Held in the centre of London this meeting dr
 aws together international experts to discuss the need for technical-based
  updates in the areas of immunohistochemistry\, clinical and research base
 d histopathology and in situ hybridisation. This meeting gathers together 
 workings from clinical\, academic and pharmaceutical organisations.\n
LOCATION:The Hammersmith Hospital\, London\,W12 0HS
END:VEVENT
END:VCALENDAR
