BEGIN:VCALENDAR
VERSION:2.0
PRODID:-//Talks.cam//talks.cam.ac.uk//
X-WR-CALNAME:Talks.cam
BEGIN:VEVENT
SUMMARY:Dyskinetoplastic trypanosomes - how to put tsetse flies and a few 
 hundred mitochondrial proteins out of business - Achim Schnaufer    Univer
 sity of Edinburgh
DTSTART:20111123T170000Z
DTEND:20111123T180000Z
UID:TALK34461@talks.cam.ac.uk
CONTACT:Mark Carrington
DESCRIPTION:Abstract not available
LOCATION:Seminar Room\, Department of Pathology\, Tennis Court Road
END:VEVENT
END:VCALENDAR
