BEGIN:VCALENDAR
VERSION:2.0
PRODID:-//Talks.cam//talks.cam.ac.uk//
X-WR-CALNAME:Talks.cam
BEGIN:VEVENT
SUMMARY:The Leishmania amastigote flagellum: from structure to function - 
 Eva Gluenz       University of Oxford
DTSTART:20120523T160000Z
DTEND:20120523T170000Z
UID:TALK34466@talks.cam.ac.uk
CONTACT:Mark Carrington
DESCRIPTION:Abstract not available
LOCATION:Seminar Room\, Department of Pathology\, Tennis Court Road
END:VEVENT
END:VCALENDAR
