BEGIN:VCALENDAR
VERSION:2.0
PRODID:-//Talks.cam//talks.cam.ac.uk//
X-WR-CALNAME:Talks.cam
BEGIN:VEVENT
SUMMARY:78N to 77S: Ice caves of the Arctic and Antarctic - Nial Peters\, 
 Cambridge University Caving Club. Department of Geography
DTSTART:20111110T193000Z
DTEND:20111110T203000Z
UID:TALK34527@talks.cam.ac.uk
CONTACT:Dr A. Zabala
DESCRIPTION:About the speaker - Nial Peters joined Cambridge University Ca
 ving Club during his first year of undergraduate study in Cambridge in 200
 3. Since then he has caved in various systems all over the world including
  Austria\, China\,\nFrance and New Zealand. He first went ice caving in Sv
 albard\, Norway in 2007 and two years later became involved with exploring
  ice caves on Mt Erebus volcano in Antarctica. During these explorations\,
  he was filmed\nfor the Attenborough documentaries entitled 'Frozen Planet
 '\, the first of which was broadcast on BBC1 last week. 
LOCATION:ALB building\, Clare Hall\, Herschel Road
END:VEVENT
END:VCALENDAR
