BEGIN:VCALENDAR
VERSION:2.0
PRODID:-//Talks.cam//talks.cam.ac.uk//
X-WR-CALNAME:Talks.cam
BEGIN:VEVENT
SUMMARY:A musical gift for Horace Barlow on his ninetieth birthday - Speak
 er to be confirmed
DTSTART:20111209T170000Z
DTEND:20111209T180000Z
UID:TALK34753@talks.cam.ac.uk
CONTACT:John Mollon
DESCRIPTION:Professor Horace Barlow FRS was President of the Kenneth Craik
  Club for much of the 40 years of its existence so far.  To mark the occas
 ion\, the Club is presenting him with a musical performance by members of 
 the Kenneth Craik Club\, including Roger Carpenter\, Hugh Robinson\, Simon
  Laughlin and Graeme Mitchison.  There will be an introduction by Tony Mov
 shon\, first Hon. Secretary of the Club\; and we shall serve a glass of wi
 ne afterwards to toast Horace Barlow's health. 
LOCATION:McCrum Lecture Theatre\, Benet Street (behind The Eagle pub\, www
 .scisoc.com for directions)
END:VEVENT
END:VCALENDAR
