BEGIN:VCALENDAR
VERSION:2.0
PRODID:-//Talks.cam//talks.cam.ac.uk//
X-WR-CALNAME:Talks.cam
BEGIN:VEVENT
SUMMARY:Bar Code Scanning -- An Inverse Problem for Words - Santosa\, F (U
 niversity of Minnesota)
DTSTART:20111216T160000Z
DTEND:20111216T163000Z
UID:TALK34996@talks.cam.ac.uk
CONTACT:Mustapha Amrani
DESCRIPTION:Bar codes are ubiquitous -- they are used to identify products
  in stores\, parts in a warehouse\, and books in a library\, etc.  In this
  talk\, the speaker will describe how information is encoded in a bar code
  and how it is read by a scanner.  The presentation will go over how the d
 ecoding process\, from scanner signal to coded information\, can be formul
 ated as an inverse problem.  The inverse problem involves finding the "wor
 d" hidden in the signal.  What makes this inverse problem\, and the approa
 ch to solve it\, somewhat unusual is that the unknown has a finite number 
 of states.\n
LOCATION:Seminar Room 1\, Newton Institute
END:VEVENT
END:VCALENDAR
