BEGIN:VCALENDAR
VERSION:2.0
PRODID:-//Talks.cam//talks.cam.ac.uk//
X-WR-CALNAME:Talks.cam
BEGIN:VEVENT
SUMMARY:Medical Student Elective Presentations - Chair: Dr Diana Wood
DTSTART:20120104T130000Z
DTEND:20120104T140000Z
UID:TALK35035@talks.cam.ac.uk
CONTACT:Faith Rawley
DESCRIPTION:Two students will present about their experiences on their ele
 ctive placements as part of the Clinical Course.
LOCATION:William Harvey Lecture Theatre
END:VEVENT
END:VCALENDAR
