BEGIN:VCALENDAR
VERSION:2.0
PRODID:-//Talks.cam//talks.cam.ac.uk//
X-WR-CALNAME:Talks.cam
BEGIN:VEVENT
SUMMARY:Endocrinology Presentation - Dr Adrian Park (Biochemistry)
DTSTART:20120111T133000Z
DTEND:20120111T140000Z
UID:TALK35037@talks.cam.ac.uk
CONTACT:Faith Rawley
DESCRIPTION:Endocrinology Presentatin\nChair: TBC
LOCATION:William Harvey Lecture Theatre
END:VEVENT
END:VCALENDAR
