BEGIN:VCALENDAR
VERSION:2.0
PRODID:-//Talks.cam//talks.cam.ac.uk//
X-WR-CALNAME:Talks.cam
BEGIN:VEVENT
SUMMARY:The Perils of Medical Tourism - Dr Theodore Gouliouris (for Profes
 sor Sharon Peacock)
DTSTART:20120118T130000Z
DTEND:20120118T133000Z
UID:TALK35038@talks.cam.ac.uk
CONTACT:Faith Rawley
DESCRIPTION:Infectious Diseases Presentation\nChair: Dr Trevor Baglin
LOCATION:William Harvey Lecture Theatre
END:VEVENT
END:VCALENDAR
