BEGIN:VCALENDAR
VERSION:2.0
PRODID:-//Talks.cam//talks.cam.ac.uk//
X-WR-CALNAME:Talks.cam
BEGIN:VEVENT
SUMMARY:The fate of Himalayan sediments during their transfer from the Hig
 h range to the Bengal Fan - Jérôme Lavé\, Nancy
DTSTART:20120509T153000Z
DTEND:20120509T163000Z
UID:TALK35047@talks.cam.ac.uk
CONTACT:Alex Copley
DESCRIPTION:Abstract not available
LOCATION:Marine/Wolfson Building lecture hall
END:VEVENT
END:VCALENDAR
