BEGIN:VCALENDAR
VERSION:2.0
PRODID:-//Talks.cam//talks.cam.ac.uk//
X-WR-CALNAME:Talks.cam
BEGIN:VEVENT
SUMMARY:Primary M.Ed. January Conference Keynote Lecture - Professor Mary 
 James\, Faculty of Education.\, University of Cambridge
DTSTART:20120107T110000Z
DTEND:20120107T123000Z
UID:TALK35077@talks.cam.ac.uk
CONTACT:26474
DESCRIPTION:High Expectations for All: Aspirations for a new National Curr
 iculum.\n\nThe talk will focus on the Framework for the Curriculum that th
 e\nExpert Panel has worked on in the light of the DfE's Call for\nEvidence
 \, collection of international evidence for other\nhigh-performing jurisdi
 ctions\, and consultation with\npractitioners and other stakeholders.
LOCATION:Faculty of Education\, 184 Hills Road\, Cambridge\, CB2 8PQ\, Don
 ald McIntyre Building\, Room 2S4
END:VEVENT
END:VCALENDAR
