BEGIN:VCALENDAR
VERSION:2.0
PRODID:-//Talks.cam//talks.cam.ac.uk//
X-WR-CALNAME:Talks.cam
BEGIN:VEVENT
SUMMARY:Lessons from Yeast: Drug Uptake and Systems Biology - Dr Paul D Do
 bson\, Department of Chemical & Biological Engineering\, University of She
 ffield
DTSTART:20120131T140000Z
DTEND:20120131T153000Z
UID:TALK35256@talks.cam.ac.uk
CONTACT:Susan Begg
DESCRIPTION:Abstract not available
LOCATION:Unilever Lecture Theatre
END:VEVENT
END:VCALENDAR
