BEGIN:VCALENDAR
VERSION:2.0
PRODID:-//Talks.cam//talks.cam.ac.uk//
X-WR-CALNAME:Talks.cam
BEGIN:VEVENT
SUMMARY:Welfare\, Sustainability and Product Quality: Examples from Agricu
 lture and Whaling - Don Broom\, University of Cambridge
DTSTART:20120130T163000Z
DTEND:20120130T180000Z
UID:TALK35389@talks.cam.ac.uk
CONTACT:Anthony Podberscek
DESCRIPTION:Abstract not available
LOCATION:Centre for Animal Welfare & Anthrozoology Seminar Room\, Veterina
 ry Medicine\, Department of
END:VEVENT
END:VCALENDAR
