BEGIN:VCALENDAR
VERSION:2.0
PRODID:-//Talks.cam//talks.cam.ac.uk//
X-WR-CALNAME:Talks.cam
BEGIN:VEVENT
SUMMARY:"Vets and Pets": Tensions between the Veterinary Profession\, the 
 State and Animal Charities in World War 2 - Hilda Kean\, Ruskin College\, 
 Oxford
DTSTART:20120305T163000Z
DTEND:20120305T180000Z
UID:TALK35394@talks.cam.ac.uk
CONTACT:Anthony Podberscek
DESCRIPTION:Abstract not available
LOCATION:Centre for Animal Welfare & Anthrozoology Seminar Room\, Veterina
 ry Medicine\, Department of
END:VEVENT
END:VCALENDAR
