BEGIN:VCALENDAR
VERSION:2.0
PRODID:-//Talks.cam//talks.cam.ac.uk//
X-WR-CALNAME:Talks.cam
BEGIN:VEVENT
SUMMARY:Bought and Sold: Women and the Global Market - Baroness Helena Ken
 nedy (Humanitas Visiting Professor in Women's Rights 2012)
DTSTART:20120209T170000Z
DTEND:20120209T183000Z
UID:TALK35514@talks.cam.ac.uk
CONTACT:Ruth Rushworth
DESCRIPTION:Globalisation has expanded markets across borders and just as 
 legitimate businesses have expanded their reach so have black markets. Thi
 s lecture will look at the forms of crime like human trafficking which hav
 e spread like wildfire through the same technological advances which have 
 enhanced markets. The lecture will contend that national legal systems are
  currently proving incapable of dealing adequately with globalised crimes\
 , particularly those which involve the sexual abuse of women and children\
 , but the profitability of such exploitation means international legal res
 ponses are resisted. 
LOCATION:Room 9\, Mill Lane Lecture Rooms\, 8 Mill Lane\, Cambridge
END:VEVENT
END:VCALENDAR
