BEGIN:VCALENDAR
VERSION:2.0
PRODID:-//Talks.cam//talks.cam.ac.uk//
X-WR-CALNAME:Talks.cam
BEGIN:VEVENT
SUMMARY:‘An insider look at public policy development' - Dr. Henry Tam\,
  Director of Cambridge University's Forum for Youth Participation & Democr
 acy
DTSTART:20120201T183000Z
DTEND:20120201T193000Z
UID:TALK35615@talks.cam.ac.uk
CONTACT:Susannah Lacon
DESCRIPTION:The Forum for Youth Participation and Democracy is a new inter
 est and research group launched last year at the Faculty of Education.\nTh
 e Forum is a diverse group of researchers and professionals interested in 
 the following broad themes both in a UK and international context: civic o
 rientation\, conflict resolution\, social-economic inclusion and political
  participation.\n\nFollowing the talk\, at 6.30pm\, there will be an infor
 mal networking meeting \, with tea and coffee\, for students to\n\n• Lea
 rn more about The Forum and opportunities to get  involved.\n• Help plan
  student participation in the Forum.\n• Meet other students with similar
  research interests.\n\nFind out more about The Forum at\nwww.educ.cam.ac.
 uk/research/academicgroups/equality/forumyouthparticipation/\n\nIf you hav
 e any questions about The Forum or the\nmeeting\, please email Jamie Stanf
 ield (js821@cam.ac.uk).\n
LOCATION:Room 104\, Mary Allan Building\, Homerton College\, Hills Road\, 
 Cambridge CB2 8PQ
END:VEVENT
END:VCALENDAR
